BEGIN:VCALENDAR
VERSION:2.0
PRODID:-//Christian Montessori School at Lake Norman - ECPv6.15.20//NONSGML v1.0//EN
CALSCALE:GREGORIAN
METHOD:PUBLISH
X-WR-CALNAME:Christian Montessori School at Lake Norman
X-ORIGINAL-URL:https://christianmontessorischool.org
X-WR-CALDESC:Events for Christian Montessori School at Lake Norman
REFRESH-INTERVAL;VALUE=DURATION:PT1H
X-Robots-Tag:noindex
X-PUBLISHED-TTL:PT1H
BEGIN:VTIMEZONE
TZID:UTC
BEGIN:STANDARD
TZOFFSETFROM:+0000
TZOFFSETTO:+0000
TZNAME:UTC
DTSTART:20150101T000000
END:STANDARD
END:VTIMEZONE
BEGIN:VEVENT
DTSTART;VALUE=DATE:20160915
DTEND;VALUE=DATE:20160916
DTSTAMP:20260419T205121
CREATED:20160907T200814Z
LAST-MODIFIED:20160907T200814Z
UID:1725-1473897600-1473983999@christianmontessorischool.org
SUMMARY:Parent Education Night
DESCRIPTION:Montessori in the Home
URL:https://christianmontessorischool.org/event/parent-education-night/
END:VEVENT
BEGIN:VEVENT
DTSTART;TZID=UTC:20160908T090000
DTEND;TZID=UTC:20160908T100000
DTSTAMP:20260419T205121
CREATED:20160823T013022Z
LAST-MODIFIED:20160823T013022Z
UID:1595-1473325200-1473328800@christianmontessorischool.org
SUMMARY:OPEN HOUSE
DESCRIPTION:
URL:https://christianmontessorischool.org/event/open-house-2/
CATEGORIES:School Event
END:VEVENT
BEGIN:VEVENT
DTSTART;VALUE=DATE:20160905
DTEND;VALUE=DATE:20160906
DTSTAMP:20260419T205121
CREATED:20160606T212534Z
LAST-MODIFIED:20160606T212534Z
UID:1544-1473033600-1473119999@christianmontessorischool.org
SUMMARY:Labor Day: School Closed
DESCRIPTION:
URL:https://christianmontessorischool.org/event/labor-day-school-closed/
CATEGORIES:No School
END:VEVENT
BEGIN:VEVENT
DTSTART;TZID=UTC:20160901T090000
DTEND;TZID=UTC:20160901T100000
DTSTAMP:20260419T205121
CREATED:20160823T013003Z
LAST-MODIFIED:20160823T013003Z
UID:1593-1472720400-1472724000@christianmontessorischool.org
SUMMARY:OPEN HOUSE
DESCRIPTION:
URL:https://christianmontessorischool.org/event/open-house/
CATEGORIES:School Event
END:VEVENT
BEGIN:VEVENT
DTSTART;VALUE=DATE:20160825
DTEND;VALUE=DATE:20160826
DTSTAMP:20260419T205121
CREATED:20160606T212518Z
LAST-MODIFIED:20160606T212518Z
UID:1543-1472083200-1472169599@christianmontessorischool.org
SUMMARY:Parent Orientation (Attendance Required)
DESCRIPTION:
URL:https://christianmontessorischool.org/event/parent-orientation-attendance-required/
CATEGORIES:School Event
END:VEVENT
BEGIN:VEVENT
DTSTART;VALUE=DATE:20160818
DTEND;VALUE=DATE:20160819
DTSTAMP:20260419T205121
CREATED:20160606T212501Z
LAST-MODIFIED:20160606T212501Z
UID:1542-1471478400-1471564799@christianmontessorischool.org
SUMMARY:First Full Day
DESCRIPTION:
URL:https://christianmontessorischool.org/event/first-full-day/
CATEGORIES:School Event
END:VEVENT
BEGIN:VEVENT
DTSTART;VALUE=DATE:20160815
DTEND;VALUE=DATE:20160818
DTSTAMP:20260419T205121
CREATED:20160606T212440Z
LAST-MODIFIED:20160606T212440Z
UID:1541-1471219200-1471478399@christianmontessorischool.org
SUMMARY:Transition Days
DESCRIPTION:
URL:https://christianmontessorischool.org/event/transition-days/
CATEGORIES:School Event
END:VEVENT
BEGIN:VEVENT
DTSTART;VALUE=DATE:20160811
DTEND;VALUE=DATE:20160812
DTSTAMP:20260419T205121
CREATED:20160606T212359Z
LAST-MODIFIED:20160606T212449Z
UID:1540-1470873600-1470959999@christianmontessorischool.org
SUMMARY:Back To School Open House
DESCRIPTION:
URL:https://christianmontessorischool.org/event/back-school-open-house/
CATEGORIES:School Event
END:VEVENT
END:VCALENDAR