BEGIN:VCALENDAR
VERSION:2.0
PRODID:-//Christian Montessori School at Lake Norman - ECPv6.15.20//NONSGML v1.0//EN
CALSCALE:GREGORIAN
METHOD:PUBLISH
X-WR-CALNAME:Christian Montessori School at Lake Norman
X-ORIGINAL-URL:https://christianmontessorischool.org
X-WR-CALDESC:Events for Christian Montessori School at Lake Norman
REFRESH-INTERVAL;VALUE=DURATION:PT1H
X-Robots-Tag:noindex
X-PUBLISHED-TTL:PT1H
BEGIN:VTIMEZONE
TZID:UTC
BEGIN:STANDARD
TZOFFSETFROM:+0000
TZOFFSETTO:+0000
TZNAME:UTC
DTSTART:20150101T000000
END:STANDARD
END:VTIMEZONE
BEGIN:VEVENT
DTSTART;VALUE=DATE:20161230
DTEND;VALUE=DATE:20161231
DTSTAMP:20260419T140929
CREATED:20160606T212817Z
LAST-MODIFIED:20160606T212817Z
UID:1555-1483056000-1483142399@christianmontessorischool.org
SUMMARY:School Closed for All- Students
DESCRIPTION:
URL:https://christianmontessorischool.org/event/school-closed-students-2/
CATEGORIES:No School
END:VEVENT
BEGIN:VEVENT
DTSTART;VALUE=DATE:20161226
DTEND;VALUE=DATE:20161227
DTSTAMP:20260419T140929
CREATED:20160606T212804Z
LAST-MODIFIED:20160606T212804Z
UID:1554-1482710400-1482796799@christianmontessorischool.org
SUMMARY:School Closed for All-Students
DESCRIPTION:
URL:https://christianmontessorischool.org/event/school-closed-students/
CATEGORIES:No School
END:VEVENT
BEGIN:VEVENT
DTSTART;VALUE=DATE:20161222
DTEND;VALUE=DATE:20161224
DTSTAMP:20260419T140929
CREATED:20160606T212749Z
LAST-MODIFIED:20160606T212749Z
UID:1553-1482364800-1482537599@christianmontessorischool.org
SUMMARY:Christmas Break for All-Students: School Closed
DESCRIPTION:
URL:https://christianmontessorischool.org/event/christmas-break-students-school-closed/
CATEGORIES:No School
END:VEVENT
BEGIN:VEVENT
DTSTART;VALUE=DATE:20161219
DTEND;VALUE=DATE:20161220
DTSTAMP:20260419T140929
CREATED:20160606T212733Z
LAST-MODIFIED:20160606T212733Z
UID:1552-1482105600-1482191999@christianmontessorischool.org
SUMMARY:Winter Break begins for Half Day and Full Day Programs
DESCRIPTION:
URL:https://christianmontessorischool.org/event/winter-break-begins-half-day-full-day-programs/
CATEGORIES:No School
END:VEVENT
BEGIN:VEVENT
DTSTART;VALUE=DATE:20161216
DTEND;VALUE=DATE:20161217
DTSTAMP:20260419T140929
CREATED:20160606T212718Z
LAST-MODIFIED:20160606T212718Z
UID:1551-1481846400-1481932799@christianmontessorischool.org
SUMMARY:End of 2nd Quarter/School Dismisses at 3:00 for All-Students
DESCRIPTION:
URL:https://christianmontessorischool.org/event/end-2nd-quarterschool-dismisses-300-students/
CATEGORIES:School Event
END:VEVENT
BEGIN:VEVENT
DTSTART;TZID=UTC:20161215T090000
DTEND;TZID=UTC:20161215T100000
DTSTAMP:20260419T140929
CREATED:20160825T191229Z
LAST-MODIFIED:20160825T191229Z
UID:1622-1481792400-1481796000@christianmontessorischool.org
SUMMARY:OPEN HOUSE
DESCRIPTION:
URL:https://christianmontessorischool.org/event/open-house-15/
CATEGORIES:School Event
END:VEVENT
BEGIN:VEVENT
DTSTART;TZID=UTC:20161208T090000
DTEND;TZID=UTC:20161208T100000
DTSTAMP:20260419T140929
CREATED:20160825T191142Z
LAST-MODIFIED:20160825T191142Z
UID:1618-1481187600-1481191200@christianmontessorischool.org
SUMMARY:OPEN HOUSE
DESCRIPTION:
URL:https://christianmontessorischool.org/event/open-house-13/
CATEGORIES:School Event
END:VEVENT
BEGIN:VEVENT
DTSTART;VALUE=DATE:20161123
DTEND;VALUE=DATE:20161126
DTSTAMP:20260419T140929
CREATED:20160606T212701Z
LAST-MODIFIED:20160606T212701Z
UID:1550-1479859200-1480118399@christianmontessorischool.org
SUMMARY:Thanksgiving Break: School Closed
DESCRIPTION:
URL:https://christianmontessorischool.org/event/thanksgiving-break-school-closed/
CATEGORIES:No School
END:VEVENT
BEGIN:VEVENT
DTSTART;VALUE=DATE:20161122
DTEND;VALUE=DATE:20161123
DTSTAMP:20260419T140929
CREATED:20160606T212647Z
LAST-MODIFIED:20160606T212647Z
UID:1549-1479772800-1479859199@christianmontessorischool.org
SUMMARY:Parent/Teacher Conferences: School Closed
DESCRIPTION:
URL:https://christianmontessorischool.org/event/parentteacher-conferences-school-closed/
CATEGORIES:No School
END:VEVENT
BEGIN:VEVENT
DTSTART;VALUE=DATE:20161121
DTEND;VALUE=DATE:20161122
DTSTAMP:20260419T140929
CREATED:20160606T212631Z
LAST-MODIFIED:20160606T212631Z
UID:1548-1479686400-1479772799@christianmontessorischool.org
SUMMARY:Parent/Teacher Conferences: Evening
DESCRIPTION:
URL:https://christianmontessorischool.org/event/parentteacher-conferences-evening/
CATEGORIES:School Event
END:VEVENT
BEGIN:VEVENT
DTSTART;TZID=UTC:20161117T090000
DTEND;TZID=UTC:20161117T100000
DTSTAMP:20260419T140929
CREATED:20160825T191127Z
LAST-MODIFIED:20160825T191127Z
UID:1616-1479373200-1479376800@christianmontessorischool.org
SUMMARY:OPEN HOUSE
DESCRIPTION:
URL:https://christianmontessorischool.org/event/open-house-12/
CATEGORIES:School Event
END:VEVENT
BEGIN:VEVENT
DTSTART;VALUE=DATE:20161111
DTEND;VALUE=DATE:20161112
DTSTAMP:20260419T140929
CREATED:20160606T212615Z
LAST-MODIFIED:20160606T212615Z
UID:1547-1478822400-1478908799@christianmontessorischool.org
SUMMARY:Veterans Day: School Closed
DESCRIPTION:
URL:https://christianmontessorischool.org/event/veterans-day-school-closed/
CATEGORIES:No School
END:VEVENT
BEGIN:VEVENT
DTSTART;TZID=UTC:20161110T090000
DTEND;TZID=UTC:20161110T100000
DTSTAMP:20260419T140929
CREATED:20160825T191114Z
LAST-MODIFIED:20160825T191114Z
UID:1614-1478768400-1478772000@christianmontessorischool.org
SUMMARY:OPEN HOUSE
DESCRIPTION:
URL:https://christianmontessorischool.org/event/open-house-11/
CATEGORIES:School Event
END:VEVENT
BEGIN:VEVENT
DTSTART;TZID=UTC:20161103T090000
DTEND;TZID=UTC:20161103T100000
DTSTAMP:20260419T140929
CREATED:20160825T191103Z
LAST-MODIFIED:20160825T191103Z
UID:1612-1478163600-1478167200@christianmontessorischool.org
SUMMARY:OPEN HOUSE
DESCRIPTION:
URL:https://christianmontessorischool.org/event/open-house-10/
CATEGORIES:School Event
END:VEVENT
BEGIN:VEVENT
DTSTART;VALUE=DATE:20161031
DTEND;VALUE=DATE:20161101
DTSTAMP:20260419T140929
CREATED:20160606T212603Z
LAST-MODIFIED:20160606T212603Z
UID:1546-1477872000-1477958399@christianmontessorischool.org
SUMMARY:Teacher Workday: School Closed
DESCRIPTION:
URL:https://christianmontessorischool.org/event/teacher-workday-school-closed-2/
CATEGORIES:No School
END:VEVENT
BEGIN:VEVENT
DTSTART;TZID=UTC:20161020T090000
DTEND;TZID=UTC:20161020T100000
DTSTAMP:20260419T140929
CREATED:20160823T013211Z
LAST-MODIFIED:20160823T013211Z
UID:1605-1476954000-1476957600@christianmontessorischool.org
SUMMARY:OPEN HOUSE
DESCRIPTION:
URL:https://christianmontessorischool.org/event/open-house-7/
CATEGORIES:School Event
END:VEVENT
BEGIN:VEVENT
DTSTART;TZID=UTC:20161006T090000
DTEND;TZID=UTC:20161006T100000
DTSTAMP:20260419T140929
CREATED:20160823T013226Z
LAST-MODIFIED:20160922T185330Z
UID:1607-1475744400-1475748000@christianmontessorischool.org
SUMMARY:OPEN HOUSE
DESCRIPTION:
URL:https://christianmontessorischool.org/event/open-house-8/
CATEGORIES:School Event
END:VEVENT
BEGIN:VEVENT
DTSTART;VALUE=DATE:20160923
DTEND;VALUE=DATE:20160924
DTSTAMP:20260419T140929
CREATED:20160606T212548Z
LAST-MODIFIED:20160606T212548Z
UID:1545-1474588800-1474675199@christianmontessorischool.org
SUMMARY:Teacher Workday: School Closed
DESCRIPTION:
URL:https://christianmontessorischool.org/event/teacher-workday-school-closed/
CATEGORIES:No School
END:VEVENT
BEGIN:VEVENT
DTSTART;TZID=UTC:20160922T090000
DTEND;TZID=UTC:20160922T100000
DTSTAMP:20260419T140929
CREATED:20160823T013051Z
LAST-MODIFIED:20160823T013051Z
UID:1599-1474534800-1474538400@christianmontessorischool.org
SUMMARY:OPEN HOUSE
DESCRIPTION:
URL:https://christianmontessorischool.org/event/open-house-4/
CATEGORIES:School Event
END:VEVENT
BEGIN:VEVENT
DTSTART;TZID=UTC:20160915T090000
DTEND;TZID=UTC:20160915T100000
DTSTAMP:20260419T140929
CREATED:20160823T013036Z
LAST-MODIFIED:20160823T013036Z
UID:1597-1473930000-1473933600@christianmontessorischool.org
SUMMARY:OPEN HOUSE
DESCRIPTION:
URL:https://christianmontessorischool.org/event/open-house-3/
CATEGORIES:School Event
END:VEVENT
BEGIN:VEVENT
DTSTART;VALUE=DATE:20160915
DTEND;VALUE=DATE:20160916
DTSTAMP:20260419T140929
CREATED:20160907T200814Z
LAST-MODIFIED:20160907T200814Z
UID:1725-1473897600-1473983999@christianmontessorischool.org
SUMMARY:Parent Education Night
DESCRIPTION:Montessori in the Home
URL:https://christianmontessorischool.org/event/parent-education-night/
END:VEVENT
BEGIN:VEVENT
DTSTART;TZID=UTC:20160908T090000
DTEND;TZID=UTC:20160908T100000
DTSTAMP:20260419T140929
CREATED:20160823T013022Z
LAST-MODIFIED:20160823T013022Z
UID:1595-1473325200-1473328800@christianmontessorischool.org
SUMMARY:OPEN HOUSE
DESCRIPTION:
URL:https://christianmontessorischool.org/event/open-house-2/
CATEGORIES:School Event
END:VEVENT
BEGIN:VEVENT
DTSTART;VALUE=DATE:20160905
DTEND;VALUE=DATE:20160906
DTSTAMP:20260419T140929
CREATED:20160606T212534Z
LAST-MODIFIED:20160606T212534Z
UID:1544-1473033600-1473119999@christianmontessorischool.org
SUMMARY:Labor Day: School Closed
DESCRIPTION:
URL:https://christianmontessorischool.org/event/labor-day-school-closed/
CATEGORIES:No School
END:VEVENT
BEGIN:VEVENT
DTSTART;TZID=UTC:20160901T090000
DTEND;TZID=UTC:20160901T100000
DTSTAMP:20260419T140929
CREATED:20160823T013003Z
LAST-MODIFIED:20160823T013003Z
UID:1593-1472720400-1472724000@christianmontessorischool.org
SUMMARY:OPEN HOUSE
DESCRIPTION:
URL:https://christianmontessorischool.org/event/open-house/
CATEGORIES:School Event
END:VEVENT
BEGIN:VEVENT
DTSTART;VALUE=DATE:20160825
DTEND;VALUE=DATE:20160826
DTSTAMP:20260419T140929
CREATED:20160606T212518Z
LAST-MODIFIED:20160606T212518Z
UID:1543-1472083200-1472169599@christianmontessorischool.org
SUMMARY:Parent Orientation (Attendance Required)
DESCRIPTION:
URL:https://christianmontessorischool.org/event/parent-orientation-attendance-required/
CATEGORIES:School Event
END:VEVENT
BEGIN:VEVENT
DTSTART;VALUE=DATE:20160818
DTEND;VALUE=DATE:20160819
DTSTAMP:20260419T140929
CREATED:20160606T212501Z
LAST-MODIFIED:20160606T212501Z
UID:1542-1471478400-1471564799@christianmontessorischool.org
SUMMARY:First Full Day
DESCRIPTION:
URL:https://christianmontessorischool.org/event/first-full-day/
CATEGORIES:School Event
END:VEVENT
BEGIN:VEVENT
DTSTART;VALUE=DATE:20160815
DTEND;VALUE=DATE:20160818
DTSTAMP:20260419T140929
CREATED:20160606T212440Z
LAST-MODIFIED:20160606T212440Z
UID:1541-1471219200-1471478399@christianmontessorischool.org
SUMMARY:Transition Days
DESCRIPTION:
URL:https://christianmontessorischool.org/event/transition-days/
CATEGORIES:School Event
END:VEVENT
BEGIN:VEVENT
DTSTART;VALUE=DATE:20160811
DTEND;VALUE=DATE:20160812
DTSTAMP:20260419T140929
CREATED:20160606T212359Z
LAST-MODIFIED:20160606T212449Z
UID:1540-1470873600-1470959999@christianmontessorischool.org
SUMMARY:Back To School Open House
DESCRIPTION:
URL:https://christianmontessorischool.org/event/back-school-open-house/
CATEGORIES:School Event
END:VEVENT
END:VCALENDAR